BEGIN:VCALENDAR
VERSION:2.0
PRODID:-//Clara Counseling//Events Calendar//EN
CALSCALE:GREGORIAN
METHOD:PUBLISH
BEGIN:VEVENT
UID:43547d9b-880e-41a3-b310-488bf06e4261-1@claracaps.com
DTSTAMP:20260421T113001Z
SUMMARY:Grupo de Manejo del Estrés y Autoestima para Adolescentes
DESCRIPTION:Un grupo psicoeducativo y de apoyo para adolescentes de 11 a 13 años\, diseñado para ayudarles a desarrollar habilidades para manejar el estrés y la ansiedad mientras fortalecen su autoestima. El grupo se enfocará en aprender estrategias de afrontamiento a través de psicoeducación\, actividades y discusiones guiadas. Las sesiones incluirán apoyo entre pares y procesamiento\, exploración de identidad y desarrollo de confianza. Discutiremos y practicaremos habilidades como la atención plena\, regulación emocional y habilidades de comunicación.\n\nhttps://www.claracaps.com/es/eventos/adolescent-stress-and-self-worth-group/adolescent-stress-and-self-worth-group-2026-06-22
LOCATION:Schaumburg office\, 3rd floor conference room
URL:https://www.claracaps.com/es/eventos/adolescent-stress-and-self-worth-group/adolescent-stress-and-self-worth-group-2026-06-22
DTSTART:20260622T190000+0000
DTEND:20260622T200000+0000
END:VEVENT
BEGIN:VEVENT
UID:43547d9b-880e-41a3-b310-488bf06e4261-2@claracaps.com
DTSTAMP:20260421T113001Z
SUMMARY:Grupo de Manejo del Estrés y Autoestima para Adolescentes
DESCRIPTION:Un grupo psicoeducativo y de apoyo para adolescentes de 11 a 13 años\, diseñado para ayudarles a desarrollar habilidades para manejar el estrés y la ansiedad mientras fortalecen su autoestima. El grupo se enfocará en aprender estrategias de afrontamiento a través de psicoeducación\, actividades y discusiones guiadas. Las sesiones incluirán apoyo entre pares y procesamiento\, exploración de identidad y desarrollo de confianza. Discutiremos y practicaremos habilidades como la atención plena\, regulación emocional y habilidades de comunicación.\n\nhttps://www.claracaps.com/es/eventos/adolescent-stress-and-self-worth-group/adolescent-stress-and-self-worth-group-2026-06-22
LOCATION:Schaumburg office\, 3rd floor conference room
URL:https://www.claracaps.com/es/eventos/adolescent-stress-and-self-worth-group/adolescent-stress-and-self-worth-group-2026-06-22
DTSTART:20260629T190000+0000
DTEND:20260629T200000+0000
END:VEVENT
BEGIN:VEVENT
UID:43547d9b-880e-41a3-b310-488bf06e4261-3@claracaps.com
DTSTAMP:20260421T113001Z
SUMMARY:Grupo de Manejo del Estrés y Autoestima para Adolescentes
DESCRIPTION:Un grupo psicoeducativo y de apoyo para adolescentes de 11 a 13 años\, diseñado para ayudarles a desarrollar habilidades para manejar el estrés y la ansiedad mientras fortalecen su autoestima. El grupo se enfocará en aprender estrategias de afrontamiento a través de psicoeducación\, actividades y discusiones guiadas. Las sesiones incluirán apoyo entre pares y procesamiento\, exploración de identidad y desarrollo de confianza. Discutiremos y practicaremos habilidades como la atención plena\, regulación emocional y habilidades de comunicación.\n\nhttps://www.claracaps.com/es/eventos/adolescent-stress-and-self-worth-group/adolescent-stress-and-self-worth-group-2026-06-22
LOCATION:Schaumburg office\, 3rd floor conference room
URL:https://www.claracaps.com/es/eventos/adolescent-stress-and-self-worth-group/adolescent-stress-and-self-worth-group-2026-06-22
DTSTART:20260706T190000+0000
DTEND:20260706T200000+0000
END:VEVENT
BEGIN:VEVENT
UID:43547d9b-880e-41a3-b310-488bf06e4261-4@claracaps.com
DTSTAMP:20260421T113001Z
SUMMARY:Grupo de Manejo del Estrés y Autoestima para Adolescentes
DESCRIPTION:Un grupo psicoeducativo y de apoyo para adolescentes de 11 a 13 años\, diseñado para ayudarles a desarrollar habilidades para manejar el estrés y la ansiedad mientras fortalecen su autoestima. El grupo se enfocará en aprender estrategias de afrontamiento a través de psicoeducación\, actividades y discusiones guiadas. Las sesiones incluirán apoyo entre pares y procesamiento\, exploración de identidad y desarrollo de confianza. Discutiremos y practicaremos habilidades como la atención plena\, regulación emocional y habilidades de comunicación.\n\nhttps://www.claracaps.com/es/eventos/adolescent-stress-and-self-worth-group/adolescent-stress-and-self-worth-group-2026-06-22
LOCATION:Schaumburg office\, 3rd floor conference room
URL:https://www.claracaps.com/es/eventos/adolescent-stress-and-self-worth-group/adolescent-stress-and-self-worth-group-2026-06-22
DTSTART:20260713T190000+0000
DTEND:20260713T200000+0000
END:VEVENT
BEGIN:VEVENT
UID:43547d9b-880e-41a3-b310-488bf06e4261-5@claracaps.com
DTSTAMP:20260421T113001Z
SUMMARY:Grupo de Manejo del Estrés y Autoestima para Adolescentes
DESCRIPTION:Un grupo psicoeducativo y de apoyo para adolescentes de 11 a 13 años\, diseñado para ayudarles a desarrollar habilidades para manejar el estrés y la ansiedad mientras fortalecen su autoestima. El grupo se enfocará en aprender estrategias de afrontamiento a través de psicoeducación\, actividades y discusiones guiadas. Las sesiones incluirán apoyo entre pares y procesamiento\, exploración de identidad y desarrollo de confianza. Discutiremos y practicaremos habilidades como la atención plena\, regulación emocional y habilidades de comunicación.\n\nhttps://www.claracaps.com/es/eventos/adolescent-stress-and-self-worth-group/adolescent-stress-and-self-worth-group-2026-06-22
LOCATION:Schaumburg office\, 3rd floor conference room
URL:https://www.claracaps.com/es/eventos/adolescent-stress-and-self-worth-group/adolescent-stress-and-self-worth-group-2026-06-22
DTSTART:20260720T190000+0000
DTEND:20260720T200000+0000
END:VEVENT
BEGIN:VEVENT
UID:43547d9b-880e-41a3-b310-488bf06e4261-6@claracaps.com
DTSTAMP:20260421T113001Z
SUMMARY:Grupo de Manejo del Estrés y Autoestima para Adolescentes
DESCRIPTION:Un grupo psicoeducativo y de apoyo para adolescentes de 11 a 13 años\, diseñado para ayudarles a desarrollar habilidades para manejar el estrés y la ansiedad mientras fortalecen su autoestima. El grupo se enfocará en aprender estrategias de afrontamiento a través de psicoeducación\, actividades y discusiones guiadas. Las sesiones incluirán apoyo entre pares y procesamiento\, exploración de identidad y desarrollo de confianza. Discutiremos y practicaremos habilidades como la atención plena\, regulación emocional y habilidades de comunicación.\n\nhttps://www.claracaps.com/es/eventos/adolescent-stress-and-self-worth-group/adolescent-stress-and-self-worth-group-2026-06-22
LOCATION:Schaumburg office\, 3rd floor conference room
URL:https://www.claracaps.com/es/eventos/adolescent-stress-and-self-worth-group/adolescent-stress-and-self-worth-group-2026-06-22
DTSTART:20260727T190000+0000
DTEND:20260727T200000+0000
END:VEVENT
BEGIN:VEVENT
UID:43547d9b-880e-41a3-b310-488bf06e4261-7@claracaps.com
DTSTAMP:20260421T113001Z
SUMMARY:Grupo de Manejo del Estrés y Autoestima para Adolescentes
DESCRIPTION:Un grupo psicoeducativo y de apoyo para adolescentes de 11 a 13 años\, diseñado para ayudarles a desarrollar habilidades para manejar el estrés y la ansiedad mientras fortalecen su autoestima. El grupo se enfocará en aprender estrategias de afrontamiento a través de psicoeducación\, actividades y discusiones guiadas. Las sesiones incluirán apoyo entre pares y procesamiento\, exploración de identidad y desarrollo de confianza. Discutiremos y practicaremos habilidades como la atención plena\, regulación emocional y habilidades de comunicación.\n\nhttps://www.claracaps.com/es/eventos/adolescent-stress-and-self-worth-group/adolescent-stress-and-self-worth-group-2026-06-22
LOCATION:Schaumburg office\, 3rd floor conference room
URL:https://www.claracaps.com/es/eventos/adolescent-stress-and-self-worth-group/adolescent-stress-and-self-worth-group-2026-06-22
DTSTART:20260803T190000+0000
DTEND:20260803T200000+0000
END:VEVENT
BEGIN:VEVENT
UID:43547d9b-880e-41a3-b310-488bf06e4261-8@claracaps.com
DTSTAMP:20260421T113001Z
SUMMARY:Grupo de Manejo del Estrés y Autoestima para Adolescentes
DESCRIPTION:Un grupo psicoeducativo y de apoyo para adolescentes de 11 a 13 años\, diseñado para ayudarles a desarrollar habilidades para manejar el estrés y la ansiedad mientras fortalecen su autoestima. El grupo se enfocará en aprender estrategias de afrontamiento a través de psicoeducación\, actividades y discusiones guiadas. Las sesiones incluirán apoyo entre pares y procesamiento\, exploración de identidad y desarrollo de confianza. Discutiremos y practicaremos habilidades como la atención plena\, regulación emocional y habilidades de comunicación.\n\nhttps://www.claracaps.com/es/eventos/adolescent-stress-and-self-worth-group/adolescent-stress-and-self-worth-group-2026-06-22
LOCATION:Schaumburg office\, 3rd floor conference room
URL:https://www.claracaps.com/es/eventos/adolescent-stress-and-self-worth-group/adolescent-stress-and-self-worth-group-2026-06-22
DTSTART:20260810T190000+0000
DTEND:20260810T200000+0000
END:VEVENT
END:VCALENDAR
