BEGIN:VCALENDAR
VERSION:2.0
PRODID:-//Clara Counseling//Events Calendar//EN
CALSCALE:GREGORIAN
METHOD:PUBLISH
BEGIN:VEVENT
UID:daaea8c0-4a9f-4b84-8713-beead52b396b-1@claracaps.com
DTSTAMP:20260421T113156Z
SUMMARY:Grupo de Habilidades Sociales de Verano
DESCRIPTION:Un grupo de habilidades sociales para niños neurodivergentes de 8 a 10 años\, diseñado para ayudarlos a desarrollar destrezas para formar y mantener relaciones con compañeros y mejorar las interacciones. El grupo se enfocará en habilidades sociales clave del desarrollo a través de psicoeducación\, actividades\, juegos de roles y discusiones en grupos pequeños. Se proporcionarán actividades para llevar a casa al final de cada sesión semanal para que las familias practiquen lo que sus hijos aprendieron esa semana.\n\nhttps://www.claracaps.com/es/eventos/summer-social-skills-group/summer-social-skills-group-2026-06-12
LOCATION:Schaumburg office\, 3rd floor conference room
URL:https://www.claracaps.com/es/eventos/summer-social-skills-group/summer-social-skills-group-2026-06-12
DTSTART:20260612T163000+0000
DTEND:20260612T173000+0000
END:VEVENT
BEGIN:VEVENT
UID:daaea8c0-4a9f-4b84-8713-beead52b396b-2@claracaps.com
DTSTAMP:20260421T113156Z
SUMMARY:Grupo de Habilidades Sociales de Verano
DESCRIPTION:Un grupo de habilidades sociales para niños neurodivergentes de 8 a 10 años\, diseñado para ayudarlos a desarrollar destrezas para formar y mantener relaciones con compañeros y mejorar las interacciones. El grupo se enfocará en habilidades sociales clave del desarrollo a través de psicoeducación\, actividades\, juegos de roles y discusiones en grupos pequeños. Se proporcionarán actividades para llevar a casa al final de cada sesión semanal para que las familias practiquen lo que sus hijos aprendieron esa semana.\n\nhttps://www.claracaps.com/es/eventos/summer-social-skills-group/summer-social-skills-group-2026-06-12
LOCATION:Schaumburg office\, 3rd floor conference room
URL:https://www.claracaps.com/es/eventos/summer-social-skills-group/summer-social-skills-group-2026-06-12
DTSTART:20260619T163000+0000
DTEND:20260619T173000+0000
END:VEVENT
BEGIN:VEVENT
UID:daaea8c0-4a9f-4b84-8713-beead52b396b-3@claracaps.com
DTSTAMP:20260421T113156Z
SUMMARY:Grupo de Habilidades Sociales de Verano
DESCRIPTION:Un grupo de habilidades sociales para niños neurodivergentes de 8 a 10 años\, diseñado para ayudarlos a desarrollar destrezas para formar y mantener relaciones con compañeros y mejorar las interacciones. El grupo se enfocará en habilidades sociales clave del desarrollo a través de psicoeducación\, actividades\, juegos de roles y discusiones en grupos pequeños. Se proporcionarán actividades para llevar a casa al final de cada sesión semanal para que las familias practiquen lo que sus hijos aprendieron esa semana.\n\nhttps://www.claracaps.com/es/eventos/summer-social-skills-group/summer-social-skills-group-2026-06-12
LOCATION:Schaumburg office\, 3rd floor conference room
URL:https://www.claracaps.com/es/eventos/summer-social-skills-group/summer-social-skills-group-2026-06-12
DTSTART:20260626T163000+0000
DTEND:20260626T173000+0000
END:VEVENT
BEGIN:VEVENT
UID:daaea8c0-4a9f-4b84-8713-beead52b396b-4@claracaps.com
DTSTAMP:20260421T113156Z
SUMMARY:Grupo de Habilidades Sociales de Verano
DESCRIPTION:Un grupo de habilidades sociales para niños neurodivergentes de 8 a 10 años\, diseñado para ayudarlos a desarrollar destrezas para formar y mantener relaciones con compañeros y mejorar las interacciones. El grupo se enfocará en habilidades sociales clave del desarrollo a través de psicoeducación\, actividades\, juegos de roles y discusiones en grupos pequeños. Se proporcionarán actividades para llevar a casa al final de cada sesión semanal para que las familias practiquen lo que sus hijos aprendieron esa semana.\n\nhttps://www.claracaps.com/es/eventos/summer-social-skills-group/summer-social-skills-group-2026-06-12
LOCATION:Schaumburg office\, 3rd floor conference room
URL:https://www.claracaps.com/es/eventos/summer-social-skills-group/summer-social-skills-group-2026-06-12
DTSTART:20260703T163000+0000
DTEND:20260703T173000+0000
END:VEVENT
BEGIN:VEVENT
UID:daaea8c0-4a9f-4b84-8713-beead52b396b-5@claracaps.com
DTSTAMP:20260421T113156Z
SUMMARY:Grupo de Habilidades Sociales de Verano
DESCRIPTION:Un grupo de habilidades sociales para niños neurodivergentes de 8 a 10 años\, diseñado para ayudarlos a desarrollar destrezas para formar y mantener relaciones con compañeros y mejorar las interacciones. El grupo se enfocará en habilidades sociales clave del desarrollo a través de psicoeducación\, actividades\, juegos de roles y discusiones en grupos pequeños. Se proporcionarán actividades para llevar a casa al final de cada sesión semanal para que las familias practiquen lo que sus hijos aprendieron esa semana.\n\nhttps://www.claracaps.com/es/eventos/summer-social-skills-group/summer-social-skills-group-2026-06-12
LOCATION:Schaumburg office\, 3rd floor conference room
URL:https://www.claracaps.com/es/eventos/summer-social-skills-group/summer-social-skills-group-2026-06-12
DTSTART:20260710T163000+0000
DTEND:20260710T173000+0000
END:VEVENT
BEGIN:VEVENT
UID:daaea8c0-4a9f-4b84-8713-beead52b396b-6@claracaps.com
DTSTAMP:20260421T113156Z
SUMMARY:Grupo de Habilidades Sociales de Verano
DESCRIPTION:Un grupo de habilidades sociales para niños neurodivergentes de 8 a 10 años\, diseñado para ayudarlos a desarrollar destrezas para formar y mantener relaciones con compañeros y mejorar las interacciones. El grupo se enfocará en habilidades sociales clave del desarrollo a través de psicoeducación\, actividades\, juegos de roles y discusiones en grupos pequeños. Se proporcionarán actividades para llevar a casa al final de cada sesión semanal para que las familias practiquen lo que sus hijos aprendieron esa semana.\n\nhttps://www.claracaps.com/es/eventos/summer-social-skills-group/summer-social-skills-group-2026-06-12
LOCATION:Schaumburg office\, 3rd floor conference room
URL:https://www.claracaps.com/es/eventos/summer-social-skills-group/summer-social-skills-group-2026-06-12
DTSTART:20260717T163000+0000
DTEND:20260717T173000+0000
END:VEVENT
END:VCALENDAR
