BEGIN:VCALENDAR
VERSION:2.0
PRODID:-//Clara Counseling//Events Calendar//EN
CALSCALE:GREGORIAN
METHOD:PUBLISH
BEGIN:VEVENT
UID:43547d9b-880e-41a3-b310-488bf06e4261-1@claracaps.com
DTSTAMP:20260421T113422Z
SUMMARY:Adolescent Stress and Self-Worth Group
DESCRIPTION:A psychoeducational and support group for adolescents ages 11-13\, designed to help them develop skills to manage stress and anxiety while building self-esteem. The group will focus on learning coping strategies through psychoeducation\, activities\, and guided discussions. Sessions will include peer support and processing\, identity exploration\, and confidence-building. We will discuss and practice skills such as mindfulness\, emotional regulation\, and communication skills.\n\nhttps://www.claracaps.com/events/adolescent-stress-and-self-worth-group/adolescent-stress-and-self-worth-group-2026-06-22
LOCATION:Schaumburg office\, 3rd floor conference room
URL:https://www.claracaps.com/events/adolescent-stress-and-self-worth-group/adolescent-stress-and-self-worth-group-2026-06-22
DTSTART:20260622T190000+0000
DTEND:20260622T200000+0000
END:VEVENT
BEGIN:VEVENT
UID:43547d9b-880e-41a3-b310-488bf06e4261-2@claracaps.com
DTSTAMP:20260421T113422Z
SUMMARY:Adolescent Stress and Self-Worth Group
DESCRIPTION:A psychoeducational and support group for adolescents ages 11-13\, designed to help them develop skills to manage stress and anxiety while building self-esteem. The group will focus on learning coping strategies through psychoeducation\, activities\, and guided discussions. Sessions will include peer support and processing\, identity exploration\, and confidence-building. We will discuss and practice skills such as mindfulness\, emotional regulation\, and communication skills.\n\nhttps://www.claracaps.com/events/adolescent-stress-and-self-worth-group/adolescent-stress-and-self-worth-group-2026-06-22
LOCATION:Schaumburg office\, 3rd floor conference room
URL:https://www.claracaps.com/events/adolescent-stress-and-self-worth-group/adolescent-stress-and-self-worth-group-2026-06-22
DTSTART:20260629T190000+0000
DTEND:20260629T200000+0000
END:VEVENT
BEGIN:VEVENT
UID:43547d9b-880e-41a3-b310-488bf06e4261-3@claracaps.com
DTSTAMP:20260421T113422Z
SUMMARY:Adolescent Stress and Self-Worth Group
DESCRIPTION:A psychoeducational and support group for adolescents ages 11-13\, designed to help them develop skills to manage stress and anxiety while building self-esteem. The group will focus on learning coping strategies through psychoeducation\, activities\, and guided discussions. Sessions will include peer support and processing\, identity exploration\, and confidence-building. We will discuss and practice skills such as mindfulness\, emotional regulation\, and communication skills.\n\nhttps://www.claracaps.com/events/adolescent-stress-and-self-worth-group/adolescent-stress-and-self-worth-group-2026-06-22
LOCATION:Schaumburg office\, 3rd floor conference room
URL:https://www.claracaps.com/events/adolescent-stress-and-self-worth-group/adolescent-stress-and-self-worth-group-2026-06-22
DTSTART:20260706T190000+0000
DTEND:20260706T200000+0000
END:VEVENT
BEGIN:VEVENT
UID:43547d9b-880e-41a3-b310-488bf06e4261-4@claracaps.com
DTSTAMP:20260421T113422Z
SUMMARY:Adolescent Stress and Self-Worth Group
DESCRIPTION:A psychoeducational and support group for adolescents ages 11-13\, designed to help them develop skills to manage stress and anxiety while building self-esteem. The group will focus on learning coping strategies through psychoeducation\, activities\, and guided discussions. Sessions will include peer support and processing\, identity exploration\, and confidence-building. We will discuss and practice skills such as mindfulness\, emotional regulation\, and communication skills.\n\nhttps://www.claracaps.com/events/adolescent-stress-and-self-worth-group/adolescent-stress-and-self-worth-group-2026-06-22
LOCATION:Schaumburg office\, 3rd floor conference room
URL:https://www.claracaps.com/events/adolescent-stress-and-self-worth-group/adolescent-stress-and-self-worth-group-2026-06-22
DTSTART:20260713T190000+0000
DTEND:20260713T200000+0000
END:VEVENT
BEGIN:VEVENT
UID:43547d9b-880e-41a3-b310-488bf06e4261-5@claracaps.com
DTSTAMP:20260421T113422Z
SUMMARY:Adolescent Stress and Self-Worth Group
DESCRIPTION:A psychoeducational and support group for adolescents ages 11-13\, designed to help them develop skills to manage stress and anxiety while building self-esteem. The group will focus on learning coping strategies through psychoeducation\, activities\, and guided discussions. Sessions will include peer support and processing\, identity exploration\, and confidence-building. We will discuss and practice skills such as mindfulness\, emotional regulation\, and communication skills.\n\nhttps://www.claracaps.com/events/adolescent-stress-and-self-worth-group/adolescent-stress-and-self-worth-group-2026-06-22
LOCATION:Schaumburg office\, 3rd floor conference room
URL:https://www.claracaps.com/events/adolescent-stress-and-self-worth-group/adolescent-stress-and-self-worth-group-2026-06-22
DTSTART:20260720T190000+0000
DTEND:20260720T200000+0000
END:VEVENT
BEGIN:VEVENT
UID:43547d9b-880e-41a3-b310-488bf06e4261-6@claracaps.com
DTSTAMP:20260421T113422Z
SUMMARY:Adolescent Stress and Self-Worth Group
DESCRIPTION:A psychoeducational and support group for adolescents ages 11-13\, designed to help them develop skills to manage stress and anxiety while building self-esteem. The group will focus on learning coping strategies through psychoeducation\, activities\, and guided discussions. Sessions will include peer support and processing\, identity exploration\, and confidence-building. We will discuss and practice skills such as mindfulness\, emotional regulation\, and communication skills.\n\nhttps://www.claracaps.com/events/adolescent-stress-and-self-worth-group/adolescent-stress-and-self-worth-group-2026-06-22
LOCATION:Schaumburg office\, 3rd floor conference room
URL:https://www.claracaps.com/events/adolescent-stress-and-self-worth-group/adolescent-stress-and-self-worth-group-2026-06-22
DTSTART:20260727T190000+0000
DTEND:20260727T200000+0000
END:VEVENT
BEGIN:VEVENT
UID:43547d9b-880e-41a3-b310-488bf06e4261-7@claracaps.com
DTSTAMP:20260421T113422Z
SUMMARY:Adolescent Stress and Self-Worth Group
DESCRIPTION:A psychoeducational and support group for adolescents ages 11-13\, designed to help them develop skills to manage stress and anxiety while building self-esteem. The group will focus on learning coping strategies through psychoeducation\, activities\, and guided discussions. Sessions will include peer support and processing\, identity exploration\, and confidence-building. We will discuss and practice skills such as mindfulness\, emotional regulation\, and communication skills.\n\nhttps://www.claracaps.com/events/adolescent-stress-and-self-worth-group/adolescent-stress-and-self-worth-group-2026-06-22
LOCATION:Schaumburg office\, 3rd floor conference room
URL:https://www.claracaps.com/events/adolescent-stress-and-self-worth-group/adolescent-stress-and-self-worth-group-2026-06-22
DTSTART:20260803T190000+0000
DTEND:20260803T200000+0000
END:VEVENT
BEGIN:VEVENT
UID:43547d9b-880e-41a3-b310-488bf06e4261-8@claracaps.com
DTSTAMP:20260421T113422Z
SUMMARY:Adolescent Stress and Self-Worth Group
DESCRIPTION:A psychoeducational and support group for adolescents ages 11-13\, designed to help them develop skills to manage stress and anxiety while building self-esteem. The group will focus on learning coping strategies through psychoeducation\, activities\, and guided discussions. Sessions will include peer support and processing\, identity exploration\, and confidence-building. We will discuss and practice skills such as mindfulness\, emotional regulation\, and communication skills.\n\nhttps://www.claracaps.com/events/adolescent-stress-and-self-worth-group/adolescent-stress-and-self-worth-group-2026-06-22
LOCATION:Schaumburg office\, 3rd floor conference room
URL:https://www.claracaps.com/events/adolescent-stress-and-self-worth-group/adolescent-stress-and-self-worth-group-2026-06-22
DTSTART:20260810T190000+0000
DTEND:20260810T200000+0000
END:VEVENT
END:VCALENDAR
