BEGIN:VCALENDAR
VERSION:2.0
PRODID:-//Clara Counseling//Events Calendar//EN
CALSCALE:GREGORIAN
METHOD:PUBLISH
BEGIN:VEVENT
UID:daaea8c0-4a9f-4b84-8713-beead52b396b-1@claracaps.com
DTSTAMP:20260421T112548Z
SUMMARY:Summer Social Skills Group
DESCRIPTION:A social skills group for neurodivergent children ages 8-10\, designed to help them develop skills to build and maintain peer relations and improve interactions. The group will focus on key developmental social skills through psychoeducation\, activities\, roleplays\, and small group discussions. Take-home activities will be provided at the end of each week’s session for families to practice what their children learned that week.\n\nhttps://www.claracaps.com/events/summer-social-skills-group/summer-social-skills-group-2026-06-12
LOCATION:Schaumburg office\, 3rd floor conference room
URL:https://www.claracaps.com/events/summer-social-skills-group/summer-social-skills-group-2026-06-12
DTSTART:20260612T163000+0000
DTEND:20260612T173000+0000
END:VEVENT
BEGIN:VEVENT
UID:daaea8c0-4a9f-4b84-8713-beead52b396b-2@claracaps.com
DTSTAMP:20260421T112548Z
SUMMARY:Summer Social Skills Group
DESCRIPTION:A social skills group for neurodivergent children ages 8-10\, designed to help them develop skills to build and maintain peer relations and improve interactions. The group will focus on key developmental social skills through psychoeducation\, activities\, roleplays\, and small group discussions. Take-home activities will be provided at the end of each week’s session for families to practice what their children learned that week.\n\nhttps://www.claracaps.com/events/summer-social-skills-group/summer-social-skills-group-2026-06-12
LOCATION:Schaumburg office\, 3rd floor conference room
URL:https://www.claracaps.com/events/summer-social-skills-group/summer-social-skills-group-2026-06-12
DTSTART:20260619T163000+0000
DTEND:20260619T173000+0000
END:VEVENT
BEGIN:VEVENT
UID:daaea8c0-4a9f-4b84-8713-beead52b396b-3@claracaps.com
DTSTAMP:20260421T112548Z
SUMMARY:Summer Social Skills Group
DESCRIPTION:A social skills group for neurodivergent children ages 8-10\, designed to help them develop skills to build and maintain peer relations and improve interactions. The group will focus on key developmental social skills through psychoeducation\, activities\, roleplays\, and small group discussions. Take-home activities will be provided at the end of each week’s session for families to practice what their children learned that week.\n\nhttps://www.claracaps.com/events/summer-social-skills-group/summer-social-skills-group-2026-06-12
LOCATION:Schaumburg office\, 3rd floor conference room
URL:https://www.claracaps.com/events/summer-social-skills-group/summer-social-skills-group-2026-06-12
DTSTART:20260626T163000+0000
DTEND:20260626T173000+0000
END:VEVENT
BEGIN:VEVENT
UID:daaea8c0-4a9f-4b84-8713-beead52b396b-4@claracaps.com
DTSTAMP:20260421T112548Z
SUMMARY:Summer Social Skills Group
DESCRIPTION:A social skills group for neurodivergent children ages 8-10\, designed to help them develop skills to build and maintain peer relations and improve interactions. The group will focus on key developmental social skills through psychoeducation\, activities\, roleplays\, and small group discussions. Take-home activities will be provided at the end of each week’s session for families to practice what their children learned that week.\n\nhttps://www.claracaps.com/events/summer-social-skills-group/summer-social-skills-group-2026-06-12
LOCATION:Schaumburg office\, 3rd floor conference room
URL:https://www.claracaps.com/events/summer-social-skills-group/summer-social-skills-group-2026-06-12
DTSTART:20260703T163000+0000
DTEND:20260703T173000+0000
END:VEVENT
BEGIN:VEVENT
UID:daaea8c0-4a9f-4b84-8713-beead52b396b-5@claracaps.com
DTSTAMP:20260421T112548Z
SUMMARY:Summer Social Skills Group
DESCRIPTION:A social skills group for neurodivergent children ages 8-10\, designed to help them develop skills to build and maintain peer relations and improve interactions. The group will focus on key developmental social skills through psychoeducation\, activities\, roleplays\, and small group discussions. Take-home activities will be provided at the end of each week’s session for families to practice what their children learned that week.\n\nhttps://www.claracaps.com/events/summer-social-skills-group/summer-social-skills-group-2026-06-12
LOCATION:Schaumburg office\, 3rd floor conference room
URL:https://www.claracaps.com/events/summer-social-skills-group/summer-social-skills-group-2026-06-12
DTSTART:20260710T163000+0000
DTEND:20260710T173000+0000
END:VEVENT
BEGIN:VEVENT
UID:daaea8c0-4a9f-4b84-8713-beead52b396b-6@claracaps.com
DTSTAMP:20260421T112548Z
SUMMARY:Summer Social Skills Group
DESCRIPTION:A social skills group for neurodivergent children ages 8-10\, designed to help them develop skills to build and maintain peer relations and improve interactions. The group will focus on key developmental social skills through psychoeducation\, activities\, roleplays\, and small group discussions. Take-home activities will be provided at the end of each week’s session for families to practice what their children learned that week.\n\nhttps://www.claracaps.com/events/summer-social-skills-group/summer-social-skills-group-2026-06-12
LOCATION:Schaumburg office\, 3rd floor conference room
URL:https://www.claracaps.com/events/summer-social-skills-group/summer-social-skills-group-2026-06-12
DTSTART:20260717T163000+0000
DTEND:20260717T173000+0000
END:VEVENT
END:VCALENDAR
